BEGIN:VCALENDAR
CALSCALE:GREGORIAN
X-WR-TIMEZONE;VALUE=TEXT:GMT
PRODID:PEAK Corporation - piCal -
X-WR-CALNAME;VALUE=TEXT:2019年度第4回定期研修会（実習）
VERSION:2.0
METHOD:PUBLISH
BEGIN:VTIMEZONE
TZID:GMT
BEGIN:STANDARD
DTSTART:19390101T000000
TZOFFSETFROM:+0000
TZOFFSETTO:+0000
TZNAME:GMT
END:STANDARD
END:VTIMEZONE
BEGIN:VEVENT
DTSTART:20200301T050000Z
DTEND:20200301T080000Z
LOCATION:コープこうべ 健康スポーツクラブ スタジオ
TRANSP:OPAQUE
SEQUENCE:3
UID:pical060-75ed3fb9ed74f6f4ed848df45004ca05
DTSTAMP:20191009T053826Z
CATEGORIES:研修会
DESCRIPTION:2019年度第4回 健康スポーツ関連施設連絡協議会定期研修会\n\n日時：2020年 3月 1日（日） 14時00分～17時00分（13時30分～受付開始）\n\n会場：コープ健康スポーツクラブスタジオ (兵庫県神戸市東灘区田中町5－3－20) ※JR住吉駅東へ徒歩8分\n\n定員：40名（先着順）\n\n参加費：一般一人4,000 円。　健康スポーツ関連施設連絡協議会会員は無料。\n\n【内容】\n実習「高齢者のための骨盤底筋トレーニング」（180分）\n\n講師　石崎　依子（いしざきよりこ）\n＜講師紹介＞\n健康運動指導士、日本ｺｱｺﾝﾃﾞｨｼｮﾆﾝｸﾞ協会ひめトレ教育ﾄﾚｰﾅｰ、同ｱﾄﾞﾊﾞﾝｽｲﾝｽﾄﾗｸﾀｰ、\nﾋﾟﾗﾃｨｽｼﾙｸｻｽﾍﾟﾝｼｮﾝｲﾝｽﾄﾗｸﾀｰ、心理ｶｳﾝｾﾘﾝｸﾞ1級ｺｰﾁﾝｸﾞ1級認知症ｻﾎﾟｰﾀｰ、\n日本ｴｱﾛﾋﾞｯｸ連盟ﾃｸﾆｶﾙｱﾄﾞﾊﾞｵｻﾞｰ、同B級審判員\n\n単位認定：健康運動指導士・健康運動実践指導者の登録更新単位（実習３単位）。\n\n希望者は下記の申出事項を全て記入の上、メールで申し込んで下さい。\n◇　申出事項　「第4回研修会」と明記の上　①氏名(ﾌﾘｶﾞﾅ)と年齢・性別　\n②住所　③電話番号(日中連絡できるところ)　④職業・職種(加盟施設職員の\n場合は必ず施設名)　⑤資格種類と番号(例：健康運動指導士１２３０４５６０) \n\n◇　申込先　　　　　健康スポーツ関連施設連絡協議会事務局\n　　　メールアドレス　　<a href="mailto:kenspo@hyogohsc.or.jp">kenspo@hyogohsc.or.jp</a>　　\n\n　　　※メール送信ができない場合は、郵送かFAXでお送りください。\n　　〒675-0101　兵庫県加古川市平岡町新在家1223-18     FAX.079-456-3701\n\n申込締切：2020年2月21日（金）　　　ただし申込み多数の場合は早めに締め切ります。\n連絡先：健康スポーツ関連施設連絡協議会事務局　（℡．070‐1818‐2234）\n\n<a href="http://www.health-jp.net/pdf/kenshukai19_4.pdf" target="_blank">詳細はこちらをご覧ください。</a>\n
SUMMARY:2019年度第4回定期研修会（実習）
PRIORITY:0
CLASS:PUBLIC
END:VEVENT
END:VCALENDAR
